BEGIN:VCALENDAR
VERSION:2.0
PRODID:-//ChamberMaster//Event Calendar 2.0//EN
METHOD:PUBLISH
X-PUBLISHED-TTL:P3D
REFRESH-INTERVAL:P3D
CALSCALE:GREGORIAN
BEGIN:VEVENT
DTSTART:20230403T120000Z
DTEND:20230403T130000Z
X-MICROSOFT-CDO-ALLDAYEVENT:FALSE
SUMMARY:Third House Session
DESCRIPTION:Join us virtually as we hear from our Indiana legislators about the new legislation expected to be presented during the 2023 Indiana General Assembly session. \n\n\n\nPlease email any questions in advance of the session to: asmith@columbusareachamber.com\n\n\n\nClick here to join the meeting.
X-ALT-DESC;FMTTYPE=text/html:<span style="color: rgb(51\, 51\, 51)\; font-family: sans-serif\, Arial\, Verdana\, &quot\;Trebuchet MS&quot\;\; font-size: 13px\; background-color: rgb(255\, 255\, 255)\;">Join us virtually as we hear from our Indiana legislators about the new legislation expected to be presented during the 2023 Indiana General Assembly session.&nbsp\;<br />\n<br />\nPlease email any questions in advance of the session to: asmith@columbusareachamber.com<br />\n<br />\n<span style="font-size:16px\;"><strong>Click <a href="https://us02web.zoom.us/j/86580243463?pwd=aS9VTFp2SXpmeUlUNTBlMk9pNGJIUT09">here</a> to join the meeting.</strong></span></span>
LOCATION:Join Zoom Meeting https://us02web.zoom.us/j/86580243463?pwd=aS9VTFp2SXpmeUlUNTBlMk9pNGJIUT09
UID:e.1795.4594
SEQUENCE:3
DTSTAMP:20260425T190508Z
URL:http://columbusarea.chambermaster.com/events/details/third-house-session-4594
END:VEVENT

END:VCALENDAR
