BEGIN:VCALENDAR
VERSION:2.0
PRODID:-//ChamberMaster//Event Calendar 2.0//EN
METHOD:PUBLISH
X-PUBLISHED-TTL:P3D
REFRESH-INTERVAL:P3D
CALSCALE:GREGORIAN
BEGIN:VEVENT
DTSTART:20230306T130000Z
DTEND:20230306T140000Z
X-MICROSOFT-CDO-ALLDAYEVENT:FALSE
SUMMARY:Third House Session
DESCRIPTION:Join us virtually as we hear from our Indiana legislators about the new legislation expected to be presented during the 2023 Indiana General Assembly session. \n\n\n\nPlease email any questions in advance of the session to: asmith@columbusareachamber.com \n\n\nClick here to join the meeting.
X-ALT-DESC;FMTTYPE=text/html:<span background-color:="" font-size:="" style="color: rgb(51\, 51\, 51)\; font-family: sans-serif\, Arial\, Verdana\, " trebuchet="">Join us virtually as we hear from our Indiana legislators about the new legislation expected to be presented during the 2023 Indiana General Assembly session.&nbsp\;<br />\n<br />\nPlease email any questions in advance of the session to: <a href="mailto:asmith@columbusareachamber.com?subject=Third%20House%20Session%20Questions">asmith@columbusareachamber.com</a>&nbsp\;</span>\n<h2><br />\n<span background-color:="" font-size:="" style="color: rgb(51\, 51\, 51)\; font-family: sans-serif\, Arial\, Verdana\, " trebuchet="">Click <a href="https://us02web.zoom.us/j/88158647236?pwd=RUloOHFlQVdGVXlTTVFvVVFWNjM4UT09">here</a> to join the meeting.&nbsp\;</span></h2>\n<br font-size:="" style="color: rgb(51\, 51\, 51)\; font-family: sans-serif\, Arial\, Verdana\, " trebuchet="" />\n&nbsp\;
LOCATION:Join Zoom Meeting https://us02web.zoom.us/j/88158647236?pwd=RUloOHFlQVdGVXlTTVFvVVFWNjM4UT09
UID:e.1795.4593
SEQUENCE:3
DTSTAMP:20260421T171425Z
URL:http://columbusarea.chambermaster.com/events/details/third-house-session-4593
END:VEVENT

END:VCALENDAR
