BEGIN:VCALENDAR
VERSION:2.0
PRODID:-//ChamberMaster//Event Calendar 2.0//EN
METHOD:PUBLISH
X-PUBLISHED-TTL:P3D
REFRESH-INTERVAL:P3D
CALSCALE:GREGORIAN
BEGIN:VEVENT
DTSTART:20230206T130000Z
DTEND:20230206T140000Z
X-MICROSOFT-CDO-ALLDAYEVENT:FALSE
SUMMARY:Third House Session
DESCRIPTION:Join us virtually as we hear from our Indiana legislators about the new legislation expected to be presented during the 2023 Indiana General Assembly session. \n\n\n\nPlease email any questions in advance of the session to: asmith@columbusareachamber.com\n\n\n\nClick here to join the meeting.
X-ALT-DESC;FMTTYPE=text/html:<span style="color: rgb(51\, 51\, 51)\; font-family: sans-serif\, Arial\, Verdana\, &quot\;Trebuchet MS&quot\;\; font-size: 13px\; background-color: rgb(255\, 255\, 255)\;">Join us virtually as we hear from our Indiana legislators about the new legislation expected to be presented during the 2023 Indiana General Assembly session.&nbsp\;<br />\n<br />\nPlease email any questions in advance of the session to: asmith@columbusareachamber.com<br />\n<br />\nClick <a href="https://us02web.zoom.us/j/81506492437?pwd=K0xUVWNXUHRFR1dnbHk5cTJZSzNWdz09">here</a> to join the meeting.&nbsp\;</span><br style="color: rgb(51\, 51\, 51)\; font-family: sans-serif\, Arial\, Verdana\, &quot\;Trebuchet MS&quot\;\; font-size: 13px\;" />\n<br style="color: rgb(51\, 51\, 51)\; font-family: sans-serif\, Arial\, Verdana\, &quot\;Trebuchet MS&quot\;\; font-size: 13px\;" />\n&nbsp\;
LOCATION:Join Zoom Meeting https://us02web.zoom.us/j/81506492437?pwd=K0xUVWNXUHRFR1dnbHk5cTJZSzNWdz09 Meeting ID: 815 0649 2437 Passcode: 294164
UID:e.1795.4592
SEQUENCE:3
DTSTAMP:20260421T140737Z
URL:http://columbusarea.chambermaster.com/events/details/third-house-session-4592
END:VEVENT

END:VCALENDAR
