BEGIN:VCALENDAR
VERSION:2.0
PRODID:-//ChamberMaster//Event Calendar 2.0//EN
METHOD:PUBLISH
X-PUBLISHED-TTL:P3D
REFRESH-INTERVAL:P3D
CALSCALE:GREGORIAN
BEGIN:VEVENT
DTSTART:20220321T130000Z
DTEND:20220321T200000Z
X-MICROSOFT-CDO-ALLDAYEVENT:FALSE
SUMMARY:Office Hours gBETA Accelerator
DESCRIPTION:Meet with gBETA Columbus - Bloomington Director Elise Young at the Chamber to learn about the free accelerator to build your company\, meet mentors\, and pitch investors. To secure a meeting\, please email Elise directly at Elise at gener8tor dot com.
X-ALT-DESC;FMTTYPE=text/html:Meet with gBETA Columbus - Bloomington Director Elise Young at the Chamber to learn about the free accelerator to build your company\,&nbsp\;meet mentors\, and pitch investors. To secure a meeting\, please email Elise directly at Elise at gener8tor dot com.&nbsp\;
LOCATION:500 Franklin Street Columbus IN 47201
UID:e.1795.3917
SEQUENCE:3
DTSTAMP:20260422T235810Z
URL:http://columbusarea.chambermaster.com/events/details/office-hours-gbeta-accelerator-3917
END:VEVENT

END:VCALENDAR
