BEGIN:VCALENDAR
VERSION:2.0
PRODID:-//ChamberMaster//Event Calendar 2.0//EN
METHOD:PUBLISH
X-PUBLISHED-TTL:P3D
REFRESH-INTERVAL:P3D
CALSCALE:GREGORIAN
BEGIN:VEVENT
DTSTART:20260604T170000Z
DTEND:20260604T183000Z
X-MICROSOFT-CDO-ALLDAYEVENT:FALSE
SUMMARY:M2M Workshop: HR Round Table
DESCRIPTION:On-the-Job Training\, Upskilling & Reskilling Frontline Employees\n\nJoin the Columbus Area Chamber of Commerce for our Quarterly HR Roundtable\, hosted in partnership with Human Soul. This interactive session brings HR professionals\, business leaders\, and people managers together to discuss current human resources topics impacting today's workplaces.\n\nOur June session will focus on one of the biggest challenges facing employers today: creating meaningful development pathways for frontline and shop floor employees. While many organizations invest in apprenticeships and leadership training\, fewer have structured programs that help hourly or entry-level workers understand how to grow\, advance\, and earn more within the company.\n\nWe'll discuss practical approaches to on-the-job training\, upskilling\, and reskilling\, and how to clearly map career progression so employees can see what's required to move into technical or leadership roles.\n\nThis roundtable is designed to be highly collaborative\, allowing participants to exchange ideas\, share what's working (and what's not)\, and learn from the experiences of others in the local business community.\n\nAttend in person or virtually and leave with actionable strategies to strengthen your internal talent pipeline.\n\nIdeal for: HR professionals\, operations leaders\, and managers responsible for workforce development.
X-ALT-DESC;FMTTYPE=text/html:<p data-end="525" data-start="238"><strong>On-the-Job Training\, Upskilling &amp\; Reskilling Frontline Employees</strong></p>\n\n<p data-end="1829" data-start="1546">Join the Columbus Area Chamber of Commerce for our <strong>Quarterly HR Roundtable</strong>\, hosted in partnership with Human Soul. This interactive session brings HR professionals\, business leaders\, and people managers together to discuss current human resources topics impacting today&rsquo\;s workplaces.</p>\n\n<p data-end="2212" data-start="1831">Our <strong>June</strong> session will focus on one of the biggest challenges facing employers today: creating meaningful development pathways for frontline and shop floor employees. While many organizations invest in apprenticeships and leadership training\, fewer have structured programs that help hourly or entry-level workers understand how to grow\, advance\, and earn more within the company.</p>\n\n<p data-end="2422" data-start="2214">We&rsquo\;ll discuss practical approaches to on-the-job training\, upskilling\, and reskilling\, and how to clearly map career progression so employees can see what&rsquo\;s required to move into technical or leadership roles.</p>\n\n<p data-end="2633" data-start="2424">This roundtable is designed to be highly collaborative\, allowing participants to exchange ideas\, share what&rsquo\;s working (and what&rsquo\;s not)\, and learn from the experiences of others in the local business community.</p>\n\n<p data-end="2746" data-start="2635">Attend in person or virtually and leave with actionable strategies to strengthen your internal talent pipeline.</p>\n\n<p data-end="2852" data-start="2748"><strong data-end="2762" data-start="2748">Ideal for:</strong> HR professionals\, operations leaders\, and managers responsible for workforce development.</p>\n
LOCATION:Columbus Area Chamber 250 Franklin Street Columbus\, IN VIRTUAL OPTION AVAILABLE
UID:e.1795.6055
SEQUENCE:3
DTSTAMP:20260420T072942Z
URL:http://columbusarea.chambermaster.com/events/details/m2m-workshop-hr-round-table-6055
END:VEVENT

END:VCALENDAR
